BEGIN:VCALENDAR
VERSION:2.0
PRODID:-//wp-events-plugin.com//7.2.3.1//EN
TZID:Europe/Paris
X-WR-TIMEZONE:Europe/Paris
BEGIN:VEVENT
UID:8@lacompagniegrise.fr
DTSTART;TZID=Europe/Paris:20240131T200000
DTEND;TZID=Europe/Paris:20240131T230000
DTSTAMP:20240129T134827Z
URL:https://lacompagniegrise.fr/events/de-20h-a-23h00-soiree-jeux/
SUMMARY:de 20h à 23h00 soirée jeux
DESCRIPTION:18 bld de la cité 87000 Limoges à la Ludothèque !\n\n&nbsp\;
 \n\nLa compagnie grise club de jeu de société \, jeux de figurines\, jeu
 x de plateau\, jeux de rôle....
END:VEVENT
BEGIN:VTIMEZONE
TZID:Europe/Paris
X-LIC-LOCATION:Europe/Paris
BEGIN:STANDARD
DTSTART:20231029T020000
TZOFFSETFROM:+0200
TZOFFSETTO:+0100
TZNAME:CET
END:STANDARD
END:VTIMEZONE
END:VCALENDAR